BEGIN:VCALENDAR
VERSION:2.0
PRODID:SchoolNow
CALSCALE:GREGORIAN
BEGIN:VEVENT
UID:ec7129e2-27ff-11ef-807f-0affee69e5df
DTSTAMP:20240611T143600Z
SUMMARY:Kindergarten Sneak Peek
URL;VALUE=URI:https://www.gls36.org/calendar/6108136/kindergarten-sneak-pee
 k
DTSTART:20240813T190000Z
DTEND:20240813T200000Z
END:VEVENT
END:VCALENDAR
