BEGIN:VCALENDAR
VERSION:2.0
PRODID:SchoolNow
CALSCALE:GREGORIAN
BEGIN:VEVENT
UID:c04e9c60-178c-11ef-a095-0257003d8c2f
DTSTAMP:20240521T161116Z
SUMMARY:Walk The Halls (8th Grade)
URL;VALUE=URI:https://www.gls36.org/calendar/6006656/walk-the-halls-8th-gra
 de
DTSTART:20240529T193000Z
DTEND:20240529T200000Z
END:VEVENT
END:VCALENDAR
