BEGIN:VCALENDAR
VERSION:2.0
PRODID:SchoolNow
CALSCALE:GREGORIAN
BEGIN:VEVENT
UID:087d68a0-178c-11ef-aa62-0a58a9feac02
DTSTAMP:20240521T160607Z
SUMMARY:Last Day Of Beyond The Bell
URL;VALUE=URI:https://www.gls36.org/calendar/6006653/last-day-of-beyond-the
 -bell
DTSTART:20240523T201500Z
DTEND:20240523T210000Z
END:VEVENT
END:VCALENDAR
