BEGIN:VCALENDAR
VERSION:2.0
PRODID:SchoolNow
CALSCALE:GREGORIAN
BEGIN:VEVENT
UID:b6f861d8-1150-11ef-8d3c-0a58a9feac02
DTSTAMP:20240513T174623Z
SUMMARY:Kindergarten End of Year Celebration/Picnic Outside
URL;VALUE=URI:https://www.gls36.org/calendar/5964825/kindergarten-end-of-ye
 ar-celebration-picnic-outside
DTSTART:20240530T164500Z
DTEND:20240530T174500Z
END:VEVENT
END:VCALENDAR
