BEGIN:VCALENDAR
VERSION:2.0
PRODID:SchoolNow
CALSCALE:GREGORIAN
BEGIN:VEVENT
UID:652a753a-1150-11ef-bbb1-0affecb6de8f
DTSTAMP:20240513T174406Z
SUMMARY:Pre-K Celebration
URL;VALUE=URI:https://www.gls36.org/calendar/5964824/pre-k-celebration
DTSTART:20240528T133000Z
DTEND:20240528T163000Z
END:VEVENT
END:VCALENDAR
