BEGIN:VCALENDAR
VERSION:2.0
PRODID:SchoolNow
CALSCALE:GREGORIAN
BEGIN:VEVENT
UID:cdec905e-114f-11ef-a6e4-0affd8ad2b13
DTSTAMP:20240513T173952Z
SUMMARY:Last day for Guided Study
URL;VALUE=URI:https://www.gls36.org/calendar/5964823/last-day-for-guided-st
 udy
DTSTART:20240523T201500Z
DTEND:20240523T220000Z
END:VEVENT
END:VCALENDAR
