BEGIN:VCALENDAR
VERSION:2.0
PRODID:SchoolNow
CALSCALE:GREGORIAN
BEGIN:VEVENT
UID:fc81035a-033a-11ef-ab20-0affd08cdb9b
DTSTAMP:20240509T151511Z
SUMMARY:Timely & Meaningful Consultation Meeting
URL;VALUE=URI:https://www.gls36.org/calendar/5856876/timely-meaningful-cons
 ultation-meeting
DTSTART:20240515T130000Z
DTEND:20240515T140000Z
END:VEVENT
END:VCALENDAR
