BEGIN:VCALENDAR
VERSION:2.0
PRODID:SchoolNow
CALSCALE:GREGORIAN
BEGIN:VEVENT
UID:112554d4-0334-11ef-bd38-0a58a9feac02
DTSTAMP:20240425T200600Z
SUMMARY:PreK For All Screening
LOCATION:Grass Lake School
URL;VALUE=URI:https://www.gls36.org/calendar/5856792/prek-for-all-screening
DTSTART:20240520T050000Z
DTEND:20240521T045900Z
ATTACH;FILENAME=Preschool Screening Flyer.pdf;FMTTYPE=application/pdf:https
 ://campussuite-storage.s3.amazonaws.com/prod/1053760/6c73247f-2f62-11e7-b7
 92-22000bd8490f/2776374/0faa1ea4-033f-11ef-9f47-0a58a9feac02/file/Preschoo
 l Screening Flyer.pdf
END:VEVENT
END:VCALENDAR
