BEGIN:VCALENDAR
VERSION:2.0
PRODID:SchoolNow
CALSCALE:GREGORIAN
BEGIN:VEVENT
UID:55462d76-fe5e-11ee-a03c-02bad92d34c5
DTSTAMP:20240419T150600Z
SUMMARY:Track Meet at Alden Hebron
LOCATION:Alden Hebron Elementary
URL;VALUE=URI:https://www.gls36.org/calendar/5817039/track-meet-at-alden-he
 bron
DTSTART:20240422T210000Z
DTEND:20240422T230000Z
END:VEVENT
END:VCALENDAR
