BEGIN:VCALENDAR
VERSION:2.0
PRODID:SchoolNow
CALSCALE:GREGORIAN
BEGIN:VEVENT
UID:80f3c210-f0ff-11ee-a743-0a58a9feac02
DTSTAMP:20240402T144426Z
SUMMARY:District 117 Art Festival (at Lakes H.S.)
URL;VALUE=URI:https://www.gls36.org/calendar/5690640/district-117-art-festi
 val-at-lakes-h-s
DTSTART:20240424T233000Z
DTEND:20240425T013000Z
ATTACH;FILENAME=Art Festival '24.jpg;FMTTYPE=image/jpeg:https://campussuite
 -storage.s3.amazonaws.com/prod/1053760/6c73247f-2f62-11e7-b792-22000bd8490
 f/2765837/7af9394e-f0ff-11ee-a9b8-0a58a9feac02/file/Art Festival '24.jpg
END:VEVENT
END:VCALENDAR
