BEGIN:VCALENDAR
VERSION:2.0
PRODID:SchoolNow
CALSCALE:GREGORIAN
BEGIN:VEVENT
UID:b7559e92-efc8-11ee-bca7-0a58a9feac02
DTSTAMP:20240401T013944Z
SUMMARY:Track State
URL;VALUE=URI:https://www.gls36.org/calendar/5678675/track-state
DTSTART:20240511T013800Z
DTEND:20240512T023800Z
END:VEVENT
END:VCALENDAR
