BEGIN:VCALENDAR
VERSION:2.0
PRODID:SchoolNow
CALSCALE:GREGORIAN
BEGIN:VEVENT
UID:8f64abb2-efc8-11ee-bb7d-029fbde84323
DTSTAMP:20240401T013837Z
SUMMARY:Track Sectionals TBA
URL;VALUE=URI:https://www.gls36.org/calendar/5678673/track-sectionals-tba
DTSTART:20240505T013700Z
DTEND:20240505T023700Z
END:VEVENT
END:VCALENDAR
