BEGIN:VCALENDAR
VERSION:2.0
PRODID:SchoolNow
CALSCALE:GREGORIAN
BEGIN:VEVENT
UID:37498204-efc8-11ee-b6e9-029fbde84323
DTSTAMP:20240401T013609Z
SUMMARY:Track Meet at Antioch Community High School
LOCATION:Antioch Community High School
URL;VALUE=URI:https://www.gls36.org/calendar/5678089/track-meet-at-antioch-
 community-high-school
DTSTART:20240430T210000Z
DTEND:20240430T230000Z
END:VEVENT
END:VCALENDAR
