BEGIN:VCALENDAR
VERSION:2.0
PRODID:SchoolNow
CALSCALE:GREGORIAN
BEGIN:VEVENT
UID:1235c7ca-efc8-11ee-8fa9-0a58a9feac02
DTSTAMP:20240401T013507Z
SUMMARY:Track Meet @ Lakes High School
LOCATION:Lakes High School
URL;VALUE=URI:https://www.gls36.org/calendar/5677950/track-meet-lakes-high-
 school
DTSTART:20240426T210000Z
DTEND:20240426T230000Z
END:VEVENT
END:VCALENDAR
