BEGIN:VCALENDAR
VERSION:2.0
PRODID:SchoolNow
CALSCALE:GREGORIAN
BEGIN:VEVENT
UID:1bb7bbf6-efc7-11ee-bdbf-0affd903b9d9
DTSTAMP:20240401T012813Z
SUMMARY:Track Meet at Mundelein High School
LOCATION:Mundelein High School
URL;VALUE=URI:https://www.gls36.org/calendar/5677948/track-meet-at-mundelei
 n-high-school
DTSTART:20240420T140000Z
DTEND:20240420T200000Z
END:VEVENT
END:VCALENDAR
