BEGIN:VCALENDAR
VERSION:2.0
PRODID:SchoolNow
CALSCALE:GREGORIAN
BEGIN:VEVENT
UID:baf3a69a-efc6-11ee-b0d7-0a58a9feac02
DTSTAMP:20240401T012531Z
SUMMARY:Track Meet at Lakes High School
LOCATION:Lakes Community High School
URL;VALUE=URI:https://www.gls36.org/calendar/5677943/track-meet-at-lakes-hi
 gh-school
DTSTART:20240418T220000Z
DTEND:20240419T000000Z
END:VEVENT
END:VCALENDAR
