BEGIN:VCALENDAR
VERSION:2.0
PRODID:SchoolNow
CALSCALE:GREGORIAN
BEGIN:VEVENT
UID:9088b6ca-efc6-11ee-9b5a-0e2136ee0625
DTSTAMP:20240401T012420Z
SUMMARY:Track Meet at Antioch High School
LOCATION:Antioch High School
URL;VALUE=URI:https://www.gls36.org/calendar/5677941/track-meet-at-antioch-
 high-school
DTSTART:20240417T210000Z
DTEND:20240417T230000Z
END:VEVENT
END:VCALENDAR
