BEGIN:VCALENDAR
VERSION:2.0
PRODID:SchoolNow
CALSCALE:GREGORIAN
BEGIN:VEVENT
UID:6526ae1a-efc6-11ee-8efc-0a58a9feac02
DTSTAMP:20240401T012307Z
SUMMARY:Track Meet at Lakes High School
LOCATION:Lakes High School
URL;VALUE=URI:https://www.gls36.org/calendar/5677939/track-meet-at-lakes-hi
 gh-school
DTSTART:20240409T220000Z
DTEND:20240409T230000Z
END:VEVENT
END:VCALENDAR
