BEGIN:VCALENDAR
VERSION:2.0
PRODID:SchoolNow
CALSCALE:GREGORIAN
BEGIN:VEVENT
UID:9e032c2a-dce5-11ee-926f-0a58a9feac02
DTSTAMP:20240308T004845Z
SUMMARY:Girls Basketball Tournament
LOCATION:Grass Lake School
URL;VALUE=URI:https://www.gls36.org/calendar/5491107/girls-basketball-tourn
 ament
DTSTART:20240308T233000Z
DTEND:20240309T003000Z
END:VEVENT
END:VCALENDAR
