BEGIN:VCALENDAR
VERSION:2.0
PRODID:SchoolNow
CALSCALE:GREGORIAN
BEGIN:VEVENT
UID:2ac1a6fc-d730-11ee-95a6-0229ce3617d7
DTSTAMP:20240229T182717Z
SUMMARY:Dr. Seuss Spirit Week:
URL;VALUE=URI:https://www.gls36.org/calendar/5431675/dr-seuss-spirit-week
DTSTART;VALUE=DATE:20240304
DTEND;VALUE=DATE:20240309
ATTACH;FILENAME=Dr Seuss Spirit Week March 4.pdf;FMTTYPE=application/pdf:ht
 tps://campussuite-storage.s3.amazonaws.com/prod/1053760/6c73247f-2f62-11e7
 -b792-22000bd8490f/2749600/0a5c0a38-d730-11ee-9b42-0affc824da4f/file/Dr Se
 uss Spirit Week March 4.pdf
END:VEVENT
END:VCALENDAR
