BEGIN:VCALENDAR
VERSION:2.0
PRODID:SchoolNow
CALSCALE:GREGORIAN
BEGIN:VEVENT
UID:6ea81376-ca86-11ee-bc9f-0a58a9feac02
DTSTAMP:20240521T160743Z
SUMMARY:8th Grade Promotion
URL;VALUE=URI:https://www.gls36.org/calendar/5320426/8th-grade-promotion
DTSTART:20240531T230000Z
DTEND:20240601T003000Z
END:VEVENT
END:VCALENDAR
