BEGIN:VCALENDAR
VERSION:2.0
PRODID:SchoolNow
CALSCALE:GREGORIAN
BEGIN:VEVENT
UID:c27afb9e-3ae9-11ee-9d28-0a58a9feac02
DTSTAMP:20240417T170141Z
SUMMARY:Spring Fine Arts Night (Glow theme) and PBL Showcase
URL;VALUE=URI:https://www.gls36.org/calendar/4574049/spring-fine-arts-night
 -glow-theme
DTSTART:20240509T223000Z
DTEND:20240510T003000Z
ATTACH;FILENAME=GLS Spring Fine Arts Night.pdf;FMTTYPE=application/pdf:http
 s://campussuite-storage.s3.amazonaws.com/prod/1053760/6c73247f-2f62-11e7-b
 792-22000bd8490f/2772428/f7992b3e-fcdb-11ee-83dd-0a58a9feac02/file/GLS Spr
 ing Fine Arts Night.pdf
END:VEVENT
END:VCALENDAR
