BEGIN:VCALENDAR
VERSION:2.0
PRODID:SchoolNow
CALSCALE:GREGORIAN
BEGIN:VEVENT
UID:1aefa2da-3ae9-11ee-ad8a-02990c9f3851
DTSTAMP:20230814T212534Z
SUMMARY:Spring Musical
LOCATION:GYM
URL;VALUE=URI:https://www.gls36.org/calendar/4574043/spring-musical
DTSTART:20240413T190000Z
DTEND:20240413T210000Z
END:VEVENT
END:VCALENDAR
