BEGIN:VCALENDAR
VERSION:2.0
PRODID:SchoolNow
CALSCALE:GREGORIAN
BEGIN:VEVENT
UID:fe31bfb6-3ae8-11ee-9cb3-0a58a9feac02
DTSTAMP:20240312T183238Z
SUMMARY:Spring Musical
LOCATION:GYM
URL;VALUE=URI:https://www.gls36.org/calendar/4574042/spring-musical
DTSTART:20240413T000000Z
DTEND:20240413T020000Z
ATTACH;FILENAME=SE Poster.pdf;FMTTYPE=application/pdf:https://campussuite-s
 torage.s3.amazonaws.com/prod/1053760/6c73247f-2f62-11e7-b792-22000bd8490f/
 2756123/cb67806e-e09e-11ee-8389-0a58a9feac02/file/SE Poster.pdf
END:VEVENT
END:VCALENDAR
