BEGIN:VCALENDAR
VERSION:2.0
PRODID:SchoolNow
CALSCALE:GREGORIAN
BEGIN:VEVENT
UID:56457bd4-3ad0-11ee-a479-0a58a9feac02
DTSTAMP:20230814T194416Z
SUMMARY:Junior High (6th-8th grade) Spring Dance
URL;VALUE=URI:https://www.gls36.org/calendar/4572748/junior-high-6th-8th-gr
 ade-spring-dance
DTSTART:20240420T000000Z
DTEND:20240420T020000Z
END:VEVENT
END:VCALENDAR
