BEGIN:VCALENDAR
VERSION:2.0
PRODID:SchoolNow
CALSCALE:GREGORIAN
BEGIN:VEVENT
UID:16953286-0470-11ee-a503-0e133e6086d7
DTSTAMP:20230606T134315Z
SUMMARY:Sports Camp Grades 4-8:  Basketball (Boys)\; Cheer (Co-Ed)
URL;VALUE=URI:https://www.gls36.org/calendar/4357436/sports-camp-kickball-t
 -ball-softball-clone
DTSTART:20230612T170000Z
DTEND:20230615T183000Z
END:VEVENT
END:VCALENDAR
