BEGIN:VCALENDAR
VERSION:2.0
PRODID:SchoolNow
CALSCALE:GREGORIAN
BEGIN:VEVENT
UID:6769b5d0-0095-11ee-b02c-02b6d856d775
DTSTAMP:20240424T151800Z
SUMMARY:Summer School Begins
URL;VALUE=URI:https://www.gls36.org/calendar/4334635/summer-school-begins
DTSTART;VALUE=DATE:20240603
DTEND;VALUE=DATE:20240604
END:VEVENT
END:VCALENDAR
