BEGIN:VCALENDAR
VERSION:2.0
PRODID:SchoolNow
CALSCALE:GREGORIAN
BEGIN:VEVENT
UID:37d6b020-0095-11ee-8776-02b6d856d775
DTSTAMP:20230601T155858Z
SUMMARY:Spring Break
URL;VALUE=URI:https://www.gls36.org/calendar/4334628/winter-break-clone-clo
 ne
DTSTART;VALUE=DATE:20240325
DTEND;VALUE=DATE:20240330
END:VEVENT
END:VCALENDAR
