BEGIN:VCALENDAR
VERSION:2.0
PRODID:SchoolNow
CALSCALE:GREGORIAN
BEGIN:VEVENT
UID:b08c7690-0094-11ee-b441-02b6d856d775
DTSTAMP:20230601T155511Z
SUMMARY:No Summer School
URL;VALUE=URI:https://www.gls36.org/calendar/4334622/no-school-clone-clone-
 clone-clone
DTSTART;VALUE=DATE:20240619
DTEND;VALUE=DATE:20240620
END:VEVENT
END:VCALENDAR
