BEGIN:VCALENDAR
VERSION:2.0
PRODID:SchoolNow
CALSCALE:GREGORIAN
BEGIN:VEVENT
UID:9e945282-0094-11ee-830a-02b6d856d775
DTSTAMP:20230601T155517Z
SUMMARY:No School
URL;VALUE=URI:https://www.gls36.org/calendar/4334621/no-school-clone-clone-
 clone
DTSTART;VALUE=DATE:20240527
DTEND;VALUE=DATE:20240528
END:VEVENT
END:VCALENDAR
