BEGIN:VCALENDAR
VERSION:2.0
PRODID:SchoolNow
CALSCALE:GREGORIAN
BEGIN:VEVENT
UID:569af7d4-0093-11ee-bb83-02b6d856d775
DTSTAMP:20230601T154530Z
SUMMARY:Last Day of School/Early Release
URL;VALUE=URI:https://www.gls36.org/calendar/4334608/early-release-clone-cl
 one-clone-clone-clone-clone-clone-clone-clone-clone-clone-clone-clone-clon
 e-clone-clone-clone-clone-clone-clone-clone-clone-clone-clone-clone-clone-
 clone-clone-clone-clone-clone-clone-clone
DTSTART:20240531T181500Z
DTEND:20240531T191500Z
END:VEVENT
END:VCALENDAR
