BEGIN:VCALENDAR
VERSION:2.0
PRODID:SchoolNow
CALSCALE:GREGORIAN
BEGIN:VEVENT
UID:49fdc182-0093-11ee-8bb2-02b6d856d775
DTSTAMP:20230601T154509Z
SUMMARY:Early Release
URL;VALUE=URI:https://www.gls36.org/calendar/4334607/early-release-clone-cl
 one-clone-clone-clone-clone-clone-clone-clone-clone-clone-clone-clone-clon
 e-clone-clone-clone-clone-clone-clone-clone-clone-clone-clone-clone-clone-
 clone-clone-clone-clone-clone-clone
DTSTART:20240524T181500Z
DTEND:20240524T191500Z
END:VEVENT
END:VCALENDAR
