BEGIN:VCALENDAR
VERSION:2.0
PRODID:SchoolNow
CALSCALE:GREGORIAN
BEGIN:VEVENT
UID:3ca6c998-0093-11ee-83f0-02b6d856d775
DTSTAMP:20230601T154447Z
SUMMARY:Early Release
URL;VALUE=URI:https://www.gls36.org/calendar/4334605/early-release-clone-cl
 one-clone-clone-clone-clone-clone-clone-clone-clone-clone-clone-clone-clon
 e-clone-clone-clone-clone-clone-clone-clone-clone-clone-clone-clone-clone-
 clone-clone-clone-clone
DTSTART:20240510T181500Z
DTEND:20240510T191500Z
END:VEVENT
END:VCALENDAR
