BEGIN:VCALENDAR
VERSION:2.0
PRODID:SchoolNow
CALSCALE:GREGORIAN
BEGIN:VEVENT
UID:2f06e886-0093-11ee-8e9a-02b6d856d775
DTSTAMP:20230601T154424Z
SUMMARY:Early Release
URL;VALUE=URI:https://www.gls36.org/calendar/4334603/early-release-clone-cl
 one-clone-clone-clone-clone-clone-clone-clone-clone-clone-clone-clone-clon
 e-clone-clone-clone-clone-clone-clone-clone-clone-clone-clone-clone-clone-
 clone-clone
DTSTART:20240426T181500Z
DTEND:20240426T191500Z
END:VEVENT
END:VCALENDAR
