BEGIN:VCALENDAR
VERSION:2.0
PRODID:SchoolNow
CALSCALE:GREGORIAN
BEGIN:VEVENT
UID:2a0c26d4-0093-11ee-97bb-02b6d856d775
DTSTAMP:20230601T154416Z
SUMMARY:Early Release
URL;VALUE=URI:https://www.gls36.org/calendar/4334602/early-release-clone-cl
 one-clone-clone-clone-clone-clone-clone-clone-clone-clone-clone-clone-clon
 e-clone-clone-clone-clone-clone-clone-clone-clone-clone-clone-clone-clone-
 clone
DTSTART:20240419T181500Z
DTEND:20240419T191500Z
END:VEVENT
END:VCALENDAR
