BEGIN:VCALENDAR
VERSION:2.0
PRODID:SchoolNow
CALSCALE:GREGORIAN
BEGIN:VEVENT
UID:2396ba8a-0093-11ee-98db-02b6d856d775
DTSTAMP:20230601T154405Z
SUMMARY:Early Release
URL;VALUE=URI:https://www.gls36.org/calendar/4334601/early-release-clone-cl
 one-clone-clone-clone-clone-clone-clone-clone-clone-clone-clone-clone-clon
 e-clone-clone-clone-clone-clone-clone-clone-clone-clone-clone-clone-clone
DTSTART:20240412T181500Z
DTEND:20240412T191500Z
END:VEVENT
END:VCALENDAR
