BEGIN:VCALENDAR
VERSION:2.0
PRODID:SchoolNow
CALSCALE:GREGORIAN
BEGIN:VEVENT
UID:1eb8b734-0093-11ee-93c3-02b6d856d775
DTSTAMP:20230601T154357Z
SUMMARY:Early Release
URL;VALUE=URI:https://www.gls36.org/calendar/4334600/early-release-clone-cl
 one-clone-clone-clone-clone-clone-clone-clone-clone-clone-clone-clone-clon
 e-clone-clone-clone-clone-clone-clone-clone-clone-clone-clone-clone
DTSTART:20240405T181500Z
DTEND:20240405T191500Z
END:VEVENT
END:VCALENDAR
