BEGIN:VCALENDAR
VERSION:2.0
PRODID:SchoolNow
CALSCALE:GREGORIAN
BEGIN:VEVENT
UID:f8a37d16-f013-11ed-85c8-02f3c3712865
DTSTAMP:20230511T155328Z
SUMMARY:BOE Meeting
URL;VALUE=URI:https://www.gls36.org/calendar/4224784/board-meeting-clone-cl
 one-clone-clone-clone-clone-clone-clone-clone-clone-clone-clone-clone-clon
 e-clone-clone-clone-clone-clone-clone-clone
DTSTART:20250219T003000Z
DTEND:20250219T013000Z
END:VEVENT
END:VCALENDAR
