BEGIN:VCALENDAR
VERSION:2.0
PRODID:SchoolNow
CALSCALE:GREGORIAN
BEGIN:VEVENT
UID:d5a3cc80-f013-11ed-9605-02f3c3712865
DTSTAMP:20230511T155229Z
SUMMARY:BOE Meeting
URL;VALUE=URI:https://www.gls36.org/calendar/4224777/board-meeting-clone-cl
 one-clone-clone-clone-clone-clone-clone-clone-clone-clone-clone-clone-clon
 e-clone-clone-clone-clone
DTSTART:20241120T003000Z
DTEND:20241120T013000Z
END:VEVENT
END:VCALENDAR
