BEGIN:VCALENDAR
VERSION:2.0
PRODID:SchoolNow
CALSCALE:GREGORIAN
BEGIN:VEVENT
UID:cb822bd4-f013-11ed-92a9-02f3c3712865
DTSTAMP:20230511T155212Z
SUMMARY:BOE Meeting
URL;VALUE=URI:https://www.gls36.org/calendar/4224775/board-meeting-clone-cl
 one-clone-clone-clone-clone-clone-clone-clone-clone-clone-clone-clone-clon
 e-clone-clone-clone
DTSTART:20241015T233000Z
DTEND:20241016T003000Z
END:VEVENT
END:VCALENDAR
