BEGIN:VCALENDAR
VERSION:2.0
PRODID:SchoolNow
CALSCALE:GREGORIAN
BEGIN:VEVENT
UID:b3b01232-f013-11ed-b58d-02f3c3712865
DTSTAMP:20230511T155132Z
SUMMARY:BOE Meeting
URL;VALUE=URI:https://www.gls36.org/calendar/4224769/board-meeting-clone-cl
 one-clone-clone-clone-clone-clone-clone-clone-clone-clone-clone-clone-clon
 e-clone
DTSTART:20240820T233000Z
DTEND:20240821T003000Z
END:VEVENT
END:VCALENDAR
