BEGIN:VCALENDAR
VERSION:2.0
PRODID:SchoolNow
CALSCALE:GREGORIAN
BEGIN:VEVENT
UID:9d447376-f013-11ed-84b7-02f3c3712865
DTSTAMP:20230511T155055Z
SUMMARY:BOE Meeting
URL;VALUE=URI:https://www.gls36.org/calendar/4224765/board-meeting-clone-cl
 one-clone-clone-clone-clone-clone-clone-clone-clone-clone-clone-clone
DTSTART:20240618T233000Z
DTEND:20240619T003000Z
END:VEVENT
END:VCALENDAR
