BEGIN:VCALENDAR
VERSION:2.0
PRODID:SchoolNow
CALSCALE:GREGORIAN
BEGIN:VEVENT
UID:7cf20f66-f013-11ed-a8c7-02f3c3712865
DTSTAMP:20230511T155000Z
SUMMARY:BOE Meeting
URL;VALUE=URI:https://www.gls36.org/calendar/4224761/board-meeting-clone-cl
 one-clone-clone-clone-clone-clone-clone-clone-clone-clone
DTSTART:20240416T233000Z
DTEND:20240417T003000Z
END:VEVENT
END:VCALENDAR
