BEGIN:VCALENDAR
VERSION:2.0
PRODID:SchoolNow
CALSCALE:GREGORIAN
BEGIN:VEVENT
UID:c5839752-540c-11ed-97ed-0eabffc821ad
DTSTAMP:20221025T022854Z
SUMMARY:Boys Basketball Parent Meeting
LOCATION:GLS Gym
URL;VALUE=URI:https://www.gls36.org/calendar/3556325/boys-basketball-parent
 -meeting
DTSTART:20221026T221500Z
DTEND:20221026T224500Z
END:VEVENT
END:VCALENDAR
