BEGIN:VCALENDAR
VERSION:2.0
PRODID:SchoolNow
CALSCALE:GREGORIAN
BEGIN:VEVENT
UID:fd7e07d2-279d-11ed-9876-0aefa9955f6b
DTSTAMP:20220912T161646Z
SUMMARY:1st Day of Boys Basketball
URL;VALUE=URI:https://www.gls36.org/calendar/3312870/1st-day-of-boys-basket
 ball-cheer
DTSTART:20221024T201500Z
DTEND:20221024T220000Z
END:VEVENT
END:VCALENDAR
