BEGIN:VCALENDAR
VERSION:2.0
PRODID:SchoolNow
CALSCALE:GREGORIAN
BEGIN:VEVENT
UID:5bc9d1e2-9403-11ec-8d7d-0e9cb3837b5b
DTSTAMP:20220222T171748Z
SUMMARY:Girls Basketball vs Emmons
URL;VALUE=URI:https://www.gls36.org/calendar/3111788/girls-basketball-vs-em
 mons
DTSTART:20220222T223000Z
DTEND:20220222T233000Z
END:VEVENT
END:VCALENDAR
