BEGIN:VCALENDAR
VERSION:2.0
PRODID:SchoolNow
CALSCALE:GREGORIAN
BEGIN:VEVENT
UID:02463f2e-8e6e-11ec-99b8-0e5a0ad5a0eb
DTSTAMP:20220215T144607Z
SUMMARY:Eighth Grade Dance Meeting In LRC
URL;VALUE=URI:https://www.gls36.org/calendar/3104257/eighth-grade-dance-mee
 ting-in-lrc
DTSTART:20220223T000000Z
DTEND:20220223T010000Z
END:VEVENT
END:VCALENDAR
