BEGIN:VCALENDAR
VERSION:2.0
PRODID:SchoolNow
CALSCALE:GREGORIAN
BEGIN:VEVENT
UID:f5c420da-8aae-11ec-89b4-0a81d94af929
DTSTAMP:20220210T202059Z
SUMMARY:Spirit Week: GLS Spirit Wear
URL;VALUE=URI:https://www.gls36.org/calendar/3099308/spirit-week-wear-red-f
 or-valetines-day-clone-clone-clone
DTSTART;VALUE=DATE:20220218
DTEND;VALUE=DATE:20220219
ATTACH;FILENAME=Spirit Week 2_14-2_18.pdf;FMTTYPE=application/pdf:https://c
 ampussuite-storage.s3.amazonaws.com/prod/1053760/6c73247f-2f62-11e7-b792-2
 2000bd8490f/2373973/9768c3ec-8aae-11ec-88b3-0a81d94af929/file/Spirit Week 
 2_14-2_18.pdf
END:VEVENT
END:VCALENDAR
