BEGIN:VCALENDAR
VERSION:2.0
PRODID:SchoolNow
CALSCALE:GREGORIAN
BEGIN:VEVENT
UID:b5da82c0-8aae-11ec-a189-0a81d94af929
DTSTAMP:20220210T202003Z
SUMMARY:Spirit Week: Mismatch Day
URL;VALUE=URI:https://www.gls36.org/calendar/3099306/spirit-week-wear-red-f
 or-valetines-day-clone
DTSTART;VALUE=DATE:20220216
DTEND;VALUE=DATE:20220217
ATTACH;FILENAME=Spirit Week 2_14-2_18.pdf;FMTTYPE=application/pdf:https://c
 ampussuite-storage.s3.amazonaws.com/prod/1053760/6c73247f-2f62-11e7-b792-2
 2000bd8490f/2373973/9768c3ec-8aae-11ec-88b3-0a81d94af929/file/Spirit Week 
 2_14-2_18.pdf
END:VEVENT
END:VCALENDAR
