BEGIN:VCALENDAR
VERSION:2.0
PRODID:SchoolNow
CALSCALE:GREGORIAN
BEGIN:VEVENT
UID:9ba8e496-8aae-11ec-803d-0a81d94af929
DTSTAMP:20220210T202120Z
SUMMARY:Spirit Week: Wear Red for Valentine's Day
URL;VALUE=URI:https://www.gls36.org/calendar/3099304/spirit-week-wear-red-f
 or-valetines-day
DTSTART;VALUE=DATE:20220214
DTEND;VALUE=DATE:20220215
ATTACH;FILENAME=Spirit Week 2_14-2_18.pdf;FMTTYPE=application/pdf:https://c
 ampussuite-storage.s3.amazonaws.com/prod/1053760/6c73247f-2f62-11e7-b792-2
 2000bd8490f/2373973/9768c3ec-8aae-11ec-88b3-0a81d94af929/file/Spirit Week 
 2_14-2_18.pdf
END:VEVENT
END:VCALENDAR
